BEGIN:VCALENDAR
VERSION:2.0
PRODID:-//Fondazione Premio Napoli - ECPv6.3.5//NONSGML v1.0//EN
CALSCALE:GREGORIAN
METHOD:PUBLISH
X-ORIGINAL-URL:https://premionapoli.it
X-WR-CALDESC:Eventi per Fondazione Premio Napoli
REFRESH-INTERVAL;VALUE=DURATION:PT1H
X-Robots-Tag:noindex
X-PUBLISHED-TTL:PT1H
BEGIN:VTIMEZONE
TZID:UTC
BEGIN:STANDARD
TZOFFSETFROM:+0000
TZOFFSETTO:+0000
TZNAME:UTC
DTSTART:20240101T000000
END:STANDARD
END:VTIMEZONE
BEGIN:VEVENT
DTSTART;VALUE=DATE:20241205
DTEND;VALUE=DATE:20241206
DTSTAMP:20260419T162416
CREATED:20241202T133156Z
LAST-MODIFIED:20241202T133156Z
UID:26075-1733356800-1733443199@premionapoli.it
SUMMARY:Incontro con i vincitori Poesia e Testi Musicali 5 Dicembre ore 17.30
DESCRIPTION:Incontro con i vincitori\nPoesia e Testi Musicali \nTommaso Ottonieri\nIda Travi \n(Fondazione Premio Napoli\, 05 Dicembre 2024 ore 17:30)
URL:https://premionapoli.it/event/incontro-con-i-vincitori-poesia-e-testi-musicali-5-dicembre-ore-17-30/
LOCATION:Palazzo Reale Piazza del Plebiscito 1\, Palazzo Reale Piazza del Plebiscito 1\, Napoli\, Napoli\, 80132
CATEGORIES:Eventi
ATTACH;FMTTYPE=image/jpeg:https://premionapoli.it/wp-content/uploads/2024/01/1300x500-02.jpg
ORGANIZER;CN="Premio Napoli":MAILTO:fondazione@premionapoli.it
END:VEVENT
BEGIN:VEVENT
DTSTART;VALUE=DATE:20241206
DTEND;VALUE=DATE:20241207
DTSTAMP:20260419T162416
CREATED:20241202T133756Z
LAST-MODIFIED:20241202T133838Z
UID:26078-1733443200-1733529599@premionapoli.it
SUMMARY:Incontro con i vincitori Poesia e Testi Musicali 6 Dicembre ore 10.00
DESCRIPTION:Incontro con i vincitori\nPoesia e Testi Musicali \nTommaso Ottonieri\nIda Travi \n(Liceo Alfonso Maria de’ Liguori Via Don Giuseppe Puglisi\, Acerra\, NA\, 06 Dicembre 2024 ore 10:00)
URL:https://premionapoli.it/event/incontro-con-i-vincitori-poesia-e-testi-musicali-6-dicembre-ore-10-00/
LOCATION:Liceo Alfonso Maria De’ Liguori\, Via Don Giuseppe Puglisi\, 18/20\, Acerra\, Napoli\, 80011\, Italy
CATEGORIES:Eventi
ATTACH;FMTTYPE=image/jpeg:https://premionapoli.it/wp-content/uploads/2024/01/1300x500-02.jpg
ORGANIZER;CN="Premio Napoli":MAILTO:fondazione@premionapoli.it
END:VEVENT
BEGIN:VEVENT
DTSTART;VALUE=DATE:20241209
DTEND;VALUE=DATE:20241210
DTSTAMP:20260419T162416
CREATED:20241205T103010Z
LAST-MODIFIED:20241205T110800Z
UID:26084-1733702400-1733788799@premionapoli.it
SUMMARY:Incontro con Paolo Fabrizio Iacuzzi "Peste e Guerra" 9 Dicembre 2024 ore 18:00
DESCRIPTION:Incontro con Paolo Fabrizio Iaciuzzi \n“Peste e Guerra\, la poesia non salverà la vita” \nIntervengono: \nCarlo Vecce (Critico e Scrittore) \nAntonio Perrone (Critico e Scrittore) \nMarisa Papa Ruggiero (Critica e Scrittrice) \nSaluti: \nMaurizio De Giovanni (Presidente Fondazione Premio Napoli Campania Legge) \n(Fondazione Premio Napoli\, 9 Dicembre 2024 ore 18:00)
URL:https://premionapoli.it/event/incontro-con-paolo-fabrizio-iacuzzi-e-presentazione-di-peste-e-guerra-9-dicembre-2024-ore-1800/
LOCATION:Palazzo Reale Piazza del Plebiscito 1\, Palazzo Reale Piazza del Plebiscito 1\, Napoli\, Napoli\, 80132
CATEGORIES:Eventi
ATTACH;FMTTYPE=image/jpeg:https://premionapoli.it/wp-content/uploads/2024/01/1300x500-02.jpg
ORGANIZER;CN="Premio Napoli":MAILTO:fondazione@premionapoli.it
END:VEVENT
BEGIN:VEVENT
DTSTART;TZID=UTC:20241211T160000
DTEND;TZID=UTC:20241211T180000
DTSTAMP:20260419T162416
CREATED:20241025T081823Z
LAST-MODIFIED:20241025T081823Z
UID:25983-1733932800-1733940000@premionapoli.it
SUMMARY:Le parole per dirlo 2024/25 "Le nostre trappole educazione ai sentimenti e alla lettura" 11 Dicembre Ore 16
DESCRIPTION:LE PAROLE PER DIRLO 2024/25\nLE NOSTRE TRAPPOLE EDUCAZIONE AI SENTIMENTI E ALLA LETTURA \nLABORATORIO DOCENTI:\nScopriamo l’autobiografia fotografica\, il Gioco Scaldastorie\, la scrittura libera… \n…pensando ai libri e aspettando gli autori di: La guerra non torna di notte\, Pucundria\, Brucia l’origine\, Le pentite \nPrenotazioni: laprincipessazzurra@gmail.com \n(Fondazione Premio Napoli\, 11 Dicembre 2024 ore 16:00)
URL:https://premionapoli.it/event/le-parole-per-dirlo-2024-25-le-nostre-trappole-educazione-ai-sentimenti-e-alla-lettura-11-dicembre-ore-16/
LOCATION:Palazzo Reale Piazza del Plebiscito 1\, Palazzo Reale Piazza del Plebiscito 1\, Napoli\, Napoli\, 80132
CATEGORIES:Eventi
ATTACH;FMTTYPE=image/jpeg:https://premionapoli.it/wp-content/uploads/2024/01/1300x500-02.jpg
ORGANIZER;CN="Premio Napoli":MAILTO:fondazione@premionapoli.it
END:VEVENT
BEGIN:VEVENT
DTSTART;VALUE=DATE:20241212
DTEND;VALUE=DATE:20241213
DTSTAMP:20260419T162416
CREATED:20241205T104801Z
LAST-MODIFIED:20241205T104801Z
UID:26093-1733961600-1734047999@premionapoli.it
SUMMARY:Incontro con Giovanni Matteoli "Presidente di Tutti" 12 Dicembre 2024 ore 17:30
DESCRIPTION:Incontro con Giovanni Matteoli \n“Presidente di Tutti” \n“Giorgio Napolitano nelle memorie di un segretario al quirinale” \nIntervengono: \nPina Picierno \nPaolo Macry \nUmberto Ranieri \nModera: \nEnzo D’errico \n(Fondazione Premio Napoli\, 12 Dicembre 2024 ore 17:30)
URL:https://premionapoli.it/event/incontro-con-giovanni-matteoli-presidente-di-tutti-12-dicembre-2024-ore-1730/
LOCATION:Palazzo Reale Piazza del Plebiscito 1\, Palazzo Reale Piazza del Plebiscito 1\, Napoli\, Napoli\, 80132
CATEGORIES:Eventi
ATTACH;FMTTYPE=image/jpeg:https://premionapoli.it/wp-content/uploads/2024/01/1300x500-02.jpg
ORGANIZER;CN="Premio Napoli":MAILTO:fondazione@premionapoli.it
END:VEVENT
BEGIN:VEVENT
DTSTART;VALUE=DATE:20241212
DTEND;VALUE=DATE:20241213
DTSTAMP:20260419T162416
CREATED:20241216T092515Z
LAST-MODIFIED:20241216T092515Z
UID:26112-1733961600-1734047999@premionapoli.it
SUMMARY:Incontro con Antonio Franchini Vincitore di narrativa e saggistica 17 Dicembre 2024 ore 17:30
DESCRIPTION:Incontro con Antonio Franchini \n“Il Fuoco che ti porti dentro” \nIntervengono: \nMaurizio De Giovanni \nTitti Marrone \n(Fondazione Premio Napoli\, 17 Dicembre 2024 ore 17:30)
URL:https://premionapoli.it/event/incontro-con-antonio-franchini-vincitore-di-narrativa-e-saggistica-17-dicembre-2024-ore-1730/
LOCATION:Palazzo Reale Piazza del Plebiscito 1\, Palazzo Reale Piazza del Plebiscito 1\, Napoli\, Napoli\, 80132
CATEGORIES:Icontri con i finalisti
ATTACH;FMTTYPE=image/jpeg:https://premionapoli.it/wp-content/uploads/2024/01/1300x500-02.jpg
ORGANIZER;CN="Premio Napoli":MAILTO:fondazione@premionapoli.it
END:VEVENT
END:VCALENDAR