BEGIN:VCALENDAR
VERSION:2.0
PRODID:-//Fondazione Premio Napoli - ECPv6.3.5//NONSGML v1.0//EN
CALSCALE:GREGORIAN
METHOD:PUBLISH
X-WR-CALNAME:Fondazione Premio Napoli
X-ORIGINAL-URL:https://premionapoli.it
X-WR-CALDESC:Eventi per Fondazione Premio Napoli
REFRESH-INTERVAL;VALUE=DURATION:PT1H
X-Robots-Tag:noindex
X-PUBLISHED-TTL:PT1H
BEGIN:VTIMEZONE
TZID:UTC
BEGIN:STANDARD
TZOFFSETFROM:+0000
TZOFFSETTO:+0000
TZNAME:UTC
DTSTART:20240101T000000
END:STANDARD
END:VTIMEZONE
BEGIN:VEVENT
DTSTART;TZID=UTC:20240201T110000
DTEND;TZID=UTC:20240201T110000
DTSTAMP:20260420T033704
CREATED:20240129T152133Z
LAST-MODIFIED:20240129T154755Z
UID:25461-1706785200-1706785200@premionapoli.it
SUMMARY:Presentazione del programma "PER CHI CREA" 1 Febbraio ore 11.00
DESCRIPTION:Presentazione del programma “PER CHI CREA”\nEdizione 2023 settore libro e lettura.\n“Calvino\, Ridaru\, Munari. Lezioni di Fantastica”\n(Fondazione Premio Napoli\, Palazzo Reale\, Giovedì 1 Febbraio ore 11.00).
URL:https://premionapoli.it/event/presentazione-del-programma-per-chi-crea/
LOCATION:Palazzo Reale Piazza del Plebiscito 1\, Palazzo Reale Piazza del Plebiscito 1\, Napoli\, Napoli\, 80132
CATEGORIES:Eventi
ATTACH;FMTTYPE=image/jpeg:https://premionapoli.it/wp-content/uploads/2024/01/1300x500-01-1.jpg
ORGANIZER;CN="Premio Napoli":MAILTO:fondazione@premionapoli.it
END:VEVENT
END:VCALENDAR