BEGIN:VCALENDAR
VERSION:2.0
PRODID:-//Fondazione Premio Napoli - ECPv6.3.5//NONSGML v1.0//EN
CALSCALE:GREGORIAN
METHOD:PUBLISH
X-WR-CALNAME:Fondazione Premio Napoli
X-ORIGINAL-URL:https://premionapoli.it
X-WR-CALDESC:Eventi per Fondazione Premio Napoli
REFRESH-INTERVAL;VALUE=DURATION:PT1H
X-Robots-Tag:noindex
X-PUBLISHED-TTL:PT1H
BEGIN:VTIMEZONE
TZID:UTC
BEGIN:STANDARD
TZOFFSETFROM:+0000
TZOFFSETTO:+0000
TZNAME:UTC
DTSTART:20250101T000000
END:STANDARD
END:VTIMEZONE
BEGIN:VEVENT
DTSTART;VALUE=DATE:20250507
DTEND;VALUE=DATE:20250508
DTSTAMP:20260421T225634
CREATED:20250430T101225Z
LAST-MODIFIED:20250430T101225Z
UID:26407-1746576000-1746662399@premionapoli.it
SUMMARY:Premio Enrico e Francesco Forzati "Sicurezza senza diritti?" Mercoledì 7 Maggio 2025 ore 17
DESCRIPTION:Premio Enrico e Francesco Forzati\nin ricordo di Francesco Forzati\n“Sicurezza senza diritti?” \n(Fondazione Premio Napoli\, Mercoledì 7 Maggio 2025 ore 17)
URL:https://premionapoli.it/event/premio-enrico-e-francesco-forzati-sicurezza-senza-diritti-mercoledi-7-maggio-2025-ore-17/
LOCATION:Palazzo Reale Piazza del Plebiscito 1\, Palazzo Reale Piazza del Plebiscito 1\, Napoli\, Napoli\, 80132
CATEGORIES:Eventi
ATTACH;FMTTYPE=image/jpeg:https://premionapoli.it/wp-content/uploads/2024/01/1300x500-02.jpg
ORGANIZER;CN="Premio Napoli":MAILTO:fondazione@premionapoli.it
END:VEVENT
END:VCALENDAR