BEGIN:VCALENDAR
VERSION:2.0
PRODID:-//Fondazione Premio Napoli - ECPv6.3.5//NONSGML v1.0//EN
CALSCALE:GREGORIAN
METHOD:PUBLISH
X-WR-CALNAME:Fondazione Premio Napoli
X-ORIGINAL-URL:https://premionapoli.it
X-WR-CALDESC:Eventi per Fondazione Premio Napoli
REFRESH-INTERVAL;VALUE=DURATION:PT1H
X-Robots-Tag:noindex
X-PUBLISHED-TTL:PT1H
BEGIN:VTIMEZONE
TZID:UTC
BEGIN:STANDARD
TZOFFSETFROM:+0000
TZOFFSETTO:+0000
TZNAME:UTC
DTSTART:20240101T000000
END:STANDARD
END:VTIMEZONE
BEGIN:VEVENT
DTSTART;TZID=UTC:20241114T160000
DTEND;TZID=UTC:20241114T180000
DTSTAMP:20260421T122710
CREATED:20241025T081635Z
LAST-MODIFIED:20241025T081635Z
UID:25980-1731600000-1731607200@premionapoli.it
SUMMARY:Le parole per dirlo 2024/25 "Le nostre trappole educazione ai sentimenti e alla lettura" 14 Novembre Ore 16
DESCRIPTION:LE PAROLE PER DIRLO 2024/25\nLE NOSTRE TRAPPOLE EDUCAZIONE AI SENTIMENTI E ALLA LETTURA \nLABORATORIO DOCENTI:\nScopriamo l’autobiografia fotografica\, il Gioco Scaldastorie\, la scrittura libera… \n…pensando ai libri e aspettando gli autori di: La guerra non torna di notte\, Pucundria\, Brucia l’origine\, Le pentite \nPrenotazioni: laprincipessazzurra@gmail.com \n(Fondazione Premio Napoli\, 14 Novembre 2024 ore 16:00)
URL:https://premionapoli.it/event/le-parole-per-dirlo-2024-25-le-nostre-trappole-educazione-ai-sentimenti-e-alla-lettura-14-novembre-ore-16/
LOCATION:Palazzo Reale Piazza del Plebiscito 1\, Palazzo Reale Piazza del Plebiscito 1\, Napoli\, Napoli\, 80132
CATEGORIES:Eventi
ATTACH;FMTTYPE=image/jpeg:https://premionapoli.it/wp-content/uploads/2024/01/1300x500-02.jpg
ORGANIZER;CN="Premio Napoli":MAILTO:fondazione@premionapoli.it
END:VEVENT
END:VCALENDAR