BEGIN:VCALENDAR
VERSION:2.0
PRODID:-//Fondazione Premio Napoli - ECPv6.3.5//NONSGML v1.0//EN
CALSCALE:GREGORIAN
METHOD:PUBLISH
X-WR-CALNAME:Fondazione Premio Napoli
X-ORIGINAL-URL:https://premionapoli.it
X-WR-CALDESC:Eventi per Fondazione Premio Napoli
REFRESH-INTERVAL;VALUE=DURATION:PT1H
X-Robots-Tag:noindex
X-PUBLISHED-TTL:PT1H
BEGIN:VTIMEZONE
TZID:UTC
BEGIN:STANDARD
TZOFFSETFROM:+0000
TZOFFSETTO:+0000
TZNAME:UTC
DTSTART:20240101T000000
END:STANDARD
END:VTIMEZONE
BEGIN:VEVENT
DTSTART;TZID=UTC:20240416T173000
DTEND;TZID=UTC:20240416T193000
DTSTAMP:20260422T220629
CREATED:20240409T163307Z
LAST-MODIFIED:20240411T104736Z
UID:25674-1713288600-1713295800@premionapoli.it
SUMMARY:"A N’AMMORE SPERDUTO" Presentazione / Anteprima del videclip di Denis Gianniberti 16 Aprile Ore 17.30
DESCRIPTION:Presentazione / Anteprima\ndel videclip di Denis Gianniberti\ndel brano \nA N’AMMORE SPERDUTO\nuna canzone di Canio Loguercio realizzata nel Carcere Femminile di Pozzuoli\nCon il Presidente della Fondazione Premio Napoli Maurizio de Giovanni e rappresentanti della Casa Circondariale di Pozzuoli \ninterverranno \nPASQUALE SCIALÒ (Compositore e Musicologo)\nCRISTINA DONADIO (Attrice) \nsaranno presenti cantanti e musicisti del brano \nLe canzoni sono compagne di vita. Raccontano storie\, dolori e speranze che sembrano\nappartenere ad ognuno di noi. Questo brano\, dedicato a “un amore disperso”\, ci porta in fondo\nal mare o in volo\, in un altrove dove un giorno quell’amore potremmo forse ritrovarlo.\nÈ un canto che scava nei versi di canzoni classiche napoletane e prefigura spazi di libertà\nintimi che solo una passione profonda ci può restituire.\nHo provato una grande emozione nel condividere questo sguardo sull’amore e sulla\nlontananza con alcune detenute del Carcere di Pozzuoli. Hanno reso intenso e reale un\nsentimento che\, senza di loro\, non avrei mai saputo descrivere con tale forza espressiva.\nHo chiesto inoltre a tre amiche\, Eduarda Iscaro\, Filomena D’Andrea Makardìa e Unaderosa\,\ncantanti bravissime che masticano la tradizione con energia e forte senso della\ncontemporaneità\, di aggregarsi a noi in questo viaggio quasi onirico fra cielo e mare\, vissuto\ndall’interno di un carcere.\nInsieme abbiamo provato a immaginare di andare oltre quello spazio di reclusione dove\nabbiamo registrato il brano e poi girato il videoclip.\nSpero si riesca a percepire la gioia di un lavoro fatto insieme con tanta allegria\, ma anche con\nqualche lacrima di commozione.\nGrazie a tutti coloro che hanno partecipato alla realizzazione di “A N’AMMORE SPERDUTO”\ne\, in particolare\, al personale della Casa circondariale femminile di Pozzuoli e alla Dott.ssa\nAdriana Intilla per averci seguito con generosa disponibilità. \nCanio Loguercio\nVOCI: CANIO LOGUERCIO\, GIULIA ARTIACO\, RAFFAELLA CERBERO\, FILOMENA D’ANDREA\nMAKARDÌA\, CHARITY FALLUYI\, ANNABELLA GUARRACINO EDUARDA ISCARO\, SIMONA\nLICCARDO\, KATIA PARASCANDOLO\, ANNAMARIA SACCO\, AMELIA SORINO\, UNADEROSA\nCHITARRA: MASSIMO ANTONIETTI FISARMONICA: EDUARDA ISCARO TROMBA: CIRO\nRICCARDI ARRANGIAMENTO E PROGRAMMAZIONE: CANIO LOGUERCIO &amp; ROCCO \nPETRUZZI TASTIERE\, PRODUZIONE E MISSAGGIO: ROCCO PETRUZZI VIDEOCLIP: DENIS\nGIANNIBERTI
URL:https://premionapoli.it/event/presentazione-anteprima-del-videclip-di-denis-gianniberti-16-aprile-ore-17-30/
LOCATION:Palazzo Reale Piazza del Plebiscito 1\, Palazzo Reale Piazza del Plebiscito 1\, Napoli\, Napoli\, 80132
CATEGORIES:Eventi
ATTACH;FMTTYPE=image/jpeg:https://premionapoli.it/wp-content/uploads/2024/04/WhatsApp-Image-2024-04-11-at-12.26.08.jpeg
ORGANIZER;CN="Premio Napoli":MAILTO:fondazione@premionapoli.it
END:VEVENT
END:VCALENDAR