BEGIN:VCALENDAR
VERSION:2.0
PRODID:-//Fondazione Premio Napoli - ECPv6.3.5//NONSGML v1.0//EN
CALSCALE:GREGORIAN
METHOD:PUBLISH
X-ORIGINAL-URL:https://premionapoli.it
X-WR-CALDESC:Eventi per Fondazione Premio Napoli
REFRESH-INTERVAL;VALUE=DURATION:PT1H
X-Robots-Tag:noindex
X-PUBLISHED-TTL:PT1H
BEGIN:VTIMEZONE
TZID:UTC
BEGIN:STANDARD
TZOFFSETFROM:+0000
TZOFFSETTO:+0000
TZNAME:UTC
DTSTART:20240101T000000
END:STANDARD
END:VTIMEZONE
BEGIN:VEVENT
DTSTART;VALUE=DATE:20241030
DTEND;VALUE=DATE:20241031
DTSTAMP:20260421T122125
CREATED:20241025T083741Z
LAST-MODIFIED:20241025T083741Z
UID:25985-1730246400-1730332799@premionapoli.it
SUMMARY:Presentazione della collana "Profondo Giappone" Mercoledì 30 ottobre\, alle ore 17.00
DESCRIPTION:Presentazione della collana “Profondo Giappone” \n\nL’evento sarà introdotto da Chiara Ghidini e Alfredo Guardiano che presenteranno un dialogo affascinante\, tra Giorgio Rivieccio\, giornalista e curatore della collana\, e gli autori Felice Farina\, Sonia Favi\, Giuseppe Giordano\, Claudia Iazzetta\, Moira Luraschi\, Antonio Manieri\, Daniela Myoei Di Perna e Jun’ichi Oue.\n\n\nPer l’occasione un set dei 15 volumi sarà donato al Liceo Alberti di Napoli\, dove si insegna la lingua e la cultura giapponese.\n\n\nLa partecipazione all’evento è libera fino a esaurimento posti.\nSiete tutti invitati a partecipare!
URL:https://premionapoli.it/event/presentazione-della-collana-profondo-giappone-mercoledi-30-ottobre-alle-ore-17-00/
LOCATION:Palazzo Reale Piazza del Plebiscito 1\, Palazzo Reale Piazza del Plebiscito 1\, Napoli\, Napoli\, 80132
CATEGORIES:Eventi
ATTACH;FMTTYPE=image/jpeg:https://premionapoli.it/wp-content/uploads/2024/01/1300x500-02.jpg
ORGANIZER;CN="Premio Napoli":MAILTO:fondazione@premionapoli.it
END:VEVENT
END:VCALENDAR