BEGIN:VCALENDAR
VERSION:2.0
PRODID:-//Fondazione Premio Napoli - ECPv6.3.5//NONSGML v1.0//EN
CALSCALE:GREGORIAN
METHOD:PUBLISH
X-ORIGINAL-URL:https://premionapoli.it
X-WR-CALDESC:Eventi per Fondazione Premio Napoli
REFRESH-INTERVAL;VALUE=DURATION:PT1H
X-Robots-Tag:noindex
X-PUBLISHED-TTL:PT1H
BEGIN:VTIMEZONE
TZID:UTC
BEGIN:STANDARD
TZOFFSETFROM:+0000
TZOFFSETTO:+0000
TZNAME:UTC
DTSTART:20250101T000000
END:STANDARD
END:VTIMEZONE
BEGIN:VEVENT
DTSTART;VALUE=DATE:20250320
DTEND;VALUE=DATE:20250321
DTSTAMP:20260419T124936
CREATED:20250314T131217Z
LAST-MODIFIED:20250314T131217Z
UID:26269-1742428800-1742515199@premionapoli.it
SUMMARY:Incontro con Wanda Marasco "Di Spalle A Questo Mondo" 20 Marzo 2025 ore 18:00
DESCRIPTION:Incontro con Wanda Marasco \n“Di Spalle A Questo Mondo” \nIntervengono: \nTitti Marrone \nLuigi Trucillo \nCarlo Longobardo \n(Fondazione Premio Napoli\, 20 Marzo 2025 ore 18:00)
URL:https://premionapoli.it/event/incontro-con-wanda-marasco-di-spalle-a-questo-mondo-20-marzo-2025-ore-1800/
LOCATION:Palazzo Reale Piazza del Plebiscito 1\, Palazzo Reale Piazza del Plebiscito 1\, Napoli\, Napoli\, 80132
CATEGORIES:Eventi
ATTACH;FMTTYPE=image/jpeg:https://premionapoli.it/wp-content/uploads/2024/01/1300x500-02.jpg
ORGANIZER;CN="Premio Napoli":MAILTO:fondazione@premionapoli.it
END:VEVENT
END:VCALENDAR