BEGIN:VCALENDAR
VERSION:2.0
PRODID:-//Fondazione Premio Napoli - ECPv6.3.5//NONSGML v1.0//EN
CALSCALE:GREGORIAN
METHOD:PUBLISH
X-WR-CALNAME:Fondazione Premio Napoli
X-ORIGINAL-URL:https://premionapoli.it
X-WR-CALDESC:Eventi per Fondazione Premio Napoli
REFRESH-INTERVAL;VALUE=DURATION:PT1H
X-Robots-Tag:noindex
X-PUBLISHED-TTL:PT1H
BEGIN:VTIMEZONE
TZID:UTC
BEGIN:STANDARD
TZOFFSETFROM:+0000
TZOFFSETTO:+0000
TZNAME:UTC
DTSTART:20250101T000000
END:STANDARD
END:VTIMEZONE
BEGIN:VEVENT
DTSTART;VALUE=DATE:20250307
DTEND;VALUE=DATE:20250308
DTSTAMP:20260419T124810
CREATED:20250305T140734Z
LAST-MODIFIED:20250305T140734Z
UID:26265-1741305600-1741391999@premionapoli.it
SUMMARY:Incontro con Michela Giachetta "I Mostri Non Esistono" 7 Marzo 2025 ore 17:30
DESCRIPTION:Incontro con Michela Giachetta \n“I Mostri Non Esistono” \nIntroduce e modera: \nAlfredo Guardiano \nIntervengono: \nAntonella Bozzaotra \nRaffaello Falcone \nCarlo Longobardo \n(Fondazione Premio Napoli\, 7 Marzo 2025 ore 17:30)
URL:https://premionapoli.it/event/incontro-con-michela-giachetta-i-mostri-non-esistono-7-marzo-2025-ore-1730/
LOCATION:Palazzo Reale Piazza del Plebiscito 1\, Palazzo Reale Piazza del Plebiscito 1\, Napoli\, Napoli\, 80132
CATEGORIES:Eventi
ATTACH;FMTTYPE=image/jpeg:https://premionapoli.it/wp-content/uploads/2024/01/1300x500-02.jpg
ORGANIZER;CN="Premio Napoli":MAILTO:fondazione@premionapoli.it
END:VEVENT
END:VCALENDAR